BEGIN:VCALENDAR
VERSION:2.0
PRODID:-//GIH Bayern - ECPv6.11.2//NONSGML v1.0//EN
CALSCALE:GREGORIAN
METHOD:PUBLISH
X-WR-CALNAME:GIH Bayern
X-ORIGINAL-URL:https://www.gih-bayern.de
X-WR-CALDESC:Veranstaltungen für GIH Bayern
REFRESH-INTERVAL;VALUE=DURATION:PT1H
X-Robots-Tag:noindex
X-PUBLISHED-TTL:PT1H
BEGIN:VTIMEZONE
TZID:Europe/Berlin
BEGIN:DAYLIGHT
TZOFFSETFROM:+0100
TZOFFSETTO:+0200
TZNAME:CEST
DTSTART:20260329T010000
END:DAYLIGHT
BEGIN:STANDARD
TZOFFSETFROM:+0200
TZOFFSETTO:+0100
TZNAME:CET
DTSTART:20261025T010000
END:STANDARD
END:VTIMEZONE
BEGIN:VEVENT
DTSTART;TZID=Europe/Berlin:20260225T090000
DTEND;TZID=Europe/Berlin:20260226T163000
DTSTAMP:20260420T065312
CREATED:20250813T081855Z
LAST-MODIFIED:20260224T231937Z
UID:2518-1772010000-1772123400@www.gih-bayern.de
SUMMARY:Energieaudit DIN 16247-1 - "Energieaudits kompetent und erfolgreich durchführen"
DESCRIPTION:Machen Sie Energieeffizienz zu Ihrem Erfolgsfaktor!\nDer Nutzen im Überblick\nIn Zeiten steigender Energiekosten und zunehmendem Umweltbewusstseins ist die Energieeffizienz für Unternehmen jeder Größe von entscheidender Bedeutung. Ein professionelles Energieaudit nach DIN EN 16247-1 ist nicht nur eine gesetzliche Anforderung für viele Unternehmen\, sondern vor allem ein strategisches Instrument\, um verborgene Einsparpotenziale aufzudecken\, Betriebskosten nachhaltig zu senken und die Wettbewerbsfähigkeit zu steigern. \nDieses Praxisseminar stattet Sie mit dem nötigen Know-how aus\, um Energieaudits kompetent und erfolgreich durchzuführen – von der Datenerfassung bis zur Erstellung eines fundierten Auditberichts. Werden Sie zum gefragten Experten für Energieeffizienz und begleiten Sie Unternehmen auf ihrem Weg in eine nachhaltige Zukunft! \nNach diesem Seminar sind Sie in der Lage\, Energieaudits nach DIN EN 16247-1 professionell und eigenständig durchzuführen.Sie erlernen: \n\nDen Zweck und die Ziele eines Energieaudits umfassend zu verstehen.\nDen Aufbau\, Umfang und die wesentlichen Inhalte der DIN EN 16247-1 detailliert zu kennen.\nDie Anforderungen an Auditoren zu erfüllen.\nDie Datenerfassung und Ortsbegehung (Audit) systematisch durchzuführen.\nDie Vorgehensweise und Problemstellungen bei der Durchführung eines Energieaudits souverän zu meistern.\nEinen Beratungsbericht im Rahmen eines Energieaudits professionell zu strukturieren und zu erstellen.\nDurch Übungen und Simulationen das erworbene Wissen direkt in die Praxis umzusetzen.\n\nInhalte\nEin Energieaudit ist ein systematisches Verfahren\, um ein umfassendes Verständnis des bestehenden Energieverbrauchsprofils von Gebäuden\, Betriebs- oder Industrieanlagen zu erlangen. Ziel ist es\, wirtschaftliche Energieeinsparmöglichkeiten präzise zu identifizieren und zu bewerten. Dieser Prozess mündet in einem detaillierten Bericht\, der die Ergebnisse festhält. Schwerpunkte eines Energieaudits sind dabei: \n\nProduktionsprozesse und -anlagen:Analyse des Energiebedarfs und Optimierungspotenziale.\nQuerschnittstechnologien:Effizienzsteigerung bei Beleuchtung\, Heizung\, Lüftung\, Kühlung\, Druckluft etc.\nTransport:Bewertung und Optimierung des Energieverbrauchs in Logistik und Fuhrpark.\nNutzerverhalten:Sensibilisierung und Motivation der Mitarbeiter für energiesparendes Handeln.\n\nIm Seminar wird umfassend Teil 1 der DIN EN 16247 behandelt\, der die grundlegenden Anforderungen für die Durchführung von Energieaudits festlegt. \nSeminarmethodik – von der Theorie zur praxisnahen Umsetzung \nDas Seminar legt großen Wert auf einen interaktiven und praxisorientierten Ansatz: \n\nFundierte Vorträge: Erfahren Sie alles über die Grundlagen\, allgemeinen Anforderungen\, fachlichen Bestandteile und Herausforderungen eines Energieaudits im Rahmen jeder Energieberatung.\nRealitätsnahe Simulationen: Die Teilnehmer durchlaufen den kompletten Ablauf eines Energieaudits anhand eines fiktiven Unternehmens. Unter Anleitung des Referenten führen die Teilnehmer die Simulationen selbst durch und analysieren gemeinsam die Ergebnisse.\nPraxisbeispiele und Fallstudien: Vertiefen Sie Ihr Beratungs- und Fachwissen durch die Analyse realer\, anonymisierter Daten\, Berechnungen und Bewertungen aus durchgeführten Energieaudits des Referenten.\n\nIhr Dozent\nHerr Michael Wühle \n \nMichael Wühle ist ein anerkannter Experte für Nachhaltigkeit und Energieeffizienz. Er berät Unternehmen unterschiedlichster Branchen und Größenordnungen\, Kommunen sowie Betriebe der Landwirtschaft und des Gartenbaus – von der Konzeption bis zur erfolgreichen Umsetzungsbegleitung. Sein umfangreiches Fachwissen teilt er regelmäßig in Sachbüchern\, Seminaren und Workshops. Als freiberuflicher Berater unterstützt er Unternehmen aktiv bei der Transformation hin zu Nachhaltigkeit und CO2-Neutralität. \nErfahren Sie mehr über Michael Wühle auf seiner Homepage: https://nachhaltigkeit-management.de \nZielgruppe\nDieses Seminar richtet sich an alle\, die ihre Expertise im Bereich Energieeffizienz erweitern und praktische Fähigkeiten im Energieaudit erwerben möchten: \n\nEnergieberatende (auch in Ausbildung)\, die erfolgreiche\, qualitativ hochwertige und förderfähige Energieberatungen für gewerbliche Unternehmen durchführen möchten.\nFacility-Manager und Energiekostenverantwortliche in Unternehmen\, die ihr Wissen über die Anforderungen und Prozesse eines Energieaudits vertiefen möchten.\nBetriebliche Energie-\, Umwelt- und Nachhaltigkeitsbeauftragte\, um ihre internen Prozesse zu optimieren und fundierte Entscheidungen zu treffen.\nQuereinsteiger und Interessierte\, die sich ein neues\, zukunftsträchtiges Betätigungsfeld erschließen möchten.\n\nZertifikate bei Teilnahme\nTeilnahmezertifikat \nOrganisatorisches und Arbeitsmittel\n\nEin umfassendes Skript und Arbeitsunterlagen werden Ihnen zur Verfügung gestellt.\nEin Laptop kann hilfreich sein\, ist aber nicht zwingend notwendig.\n\nUnterrichtsform\nPräsenzunterricht \njeweils 09:00-16:30 Uhr25.02.2026 – 26.02.2026 \nHinweis zur dena-Anerkennung\nAnrechenbare Unterrichtseinheiten für die Eintragung bzw. Verlängerung des Eintrags in der Energie-Effizienz-Expertenliste für Förderprogramme des Bundes für diese Veranstaltung: \n\nWohngebäude (WG): 0 Unterrichtseinheiten\nNichtwohngebäude (NWG): 16 Unterrichtseinheiten\nEnergieaudit DIN 16247/Contracting (BAFA): 16 Unterrichtseinheiten\n\nZur Verlängerung des Listeneintrages müssen alle drei Jahre insgesamt 24 Unterrichtseinheiten nachgewiesen werden. Weitere Informationen finden Sie hier. \nHinweis zur Eintragung in die Kategorie DIN EN 16247 (bitte unbedingt lesen)\nDas dena-Regelheft für die Energieeffizienz-Expertenliste (EEE) sieht unter dem Punkt 21.1.2.2 Erleichterungen für bereits gelistete Experten vor\, die eine zusätzliche Listung in einer anderen Kategorie anstreben.  \nHier sind die Kernpunkte dieser Regelung: \n\nAnerkennung vorhandener Qualifikationen: Experten\, die bereits in einer bestimmten Kategorie (z. B. Bundesförderung für effiziente Gebäude – Nichtwohngebäude) gelistet sind\, müssen für eine neue Listung in einer ähnlichen Kategorie nicht den vollen Qualifikationsnachweis (80 UE NWG) erneut erbringen.\nVoraussetzung: Es muss der Nachweis über das Basismodul und das Vertiefungsmodul der entsprechenden Kategorie (z. B. Nichtwohngebäude) vorliegen.\nWegfall der Neuausbildung: Bereits eingereichte Qualifikationen\, Fortbildungen und Nachweise können für die neue Listung anerkannt werden\, wenn sie den Anforderungen der neuen Kategorie entsprechen.\nZiel: Die Regelung soll den administrativen Aufwand für Experten reduzieren\, die ihr Tätigkeitsfeld auf weitere Förderprogramme des Bundes (BAFA/KfW) ausdehnen wollen. \n\nDiese Erleichterung gilt primär für den Wechsel oder die Erweiterung zwischen den Kategorien Wohngebäude (WG) und Nichtwohngebäude (NWG) sowie innerhalb der verschiedenen Förderprogramme. 
URL:https://www.gih-bayern.de/veranstaltung/energieaudit-din-16247-1/
LOCATION:STEICO SE\, Otto-Lilienthal-Ring 30\, 85622 Feldkirchen
CATEGORIES:veranstaltungen-bayern
ATTACH;FMTTYPE=image/jpeg:https://www.gih-bayern.de/wp-content/uploads/sites/8/Praesenz_Energieaudit.jpg
ORGANIZER;CN="GIH Bayern e.V.":MAILTO:manuel.bravo@gih-bayern.de
END:VEVENT
END:VCALENDAR