BEGIN:VCALENDAR
VERSION:2.0
PRODID:-//GIH Bayern - ECPv6.11.2//NONSGML v1.0//EN
CALSCALE:GREGORIAN
METHOD:PUBLISH
X-WR-CALNAME:GIH Bayern
X-ORIGINAL-URL:https://www.gih-bayern.de
X-WR-CALDESC:Veranstaltungen für GIH Bayern
REFRESH-INTERVAL;VALUE=DURATION:PT1H
X-Robots-Tag:noindex
X-PUBLISHED-TTL:PT1H
BEGIN:VTIMEZONE
TZID:Europe/Berlin
BEGIN:DAYLIGHT
TZOFFSETFROM:+0100
TZOFFSETTO:+0200
TZNAME:CEST
DTSTART:20260329T010000
END:DAYLIGHT
BEGIN:STANDARD
TZOFFSETFROM:+0200
TZOFFSETTO:+0100
TZNAME:CET
DTSTART:20261025T010000
END:STANDARD
END:VTIMEZONE
BEGIN:VEVENT
DTSTART;TZID=Europe/Berlin:20260116T150000
DTEND;TZID=Europe/Berlin:20260131T200000
DTSTAMP:20260420T083907
CREATED:20251105T172021Z
LAST-MODIFIED:20260108T095352Z
UID:7731-1768575600-1769889600@www.gih-bayern.de
SUMMARY:Vertiefungsmodul Energieberatung Wohngebäude (40 UE)
DESCRIPTION:Ihr Schlüssel zur Expertenliste! – Effizient vorbereitet für die Prüfung\nWann brauchen Sie das Vertiefungsmodul Energieberatung Wohngebäude (WG)?\n\nWenn Sie das Basismodul abgeschlossen haben\, Ihnen aber das Vertiefungsmodul Energieberatung Wohngebäude (WG) noch für die Zulassung zur Prüfung beim Öko-Zentrum NRW GmbH fehlt\nWenn Sie künftige/r Absolvent/in sind und sich für die Prüfung (nochmals) gezielt vorbereiten wollen\, um Lücken zu schließen\, neue Fälle zu üben oder praktische Anwendungsszenarien zu vertiefen\nWenn Sie die Prüfung wiederholen und sich freiwillig erneut intensiv darauf vorbereiten wollen\nWenn nach Nichtbestehen des 2. Prüfungsversuches noch keine 3 Jahre vergangen sind und Sie das Vertiefungsmodul neu abschließen müssen\, um für die Wiederholungsprüfung zugelassen zu werden\nDas Vertiefungsmodul Energieberatung Wohngebäude kann auch für eine Verlängerung der Eintragung in die Expertenliste angerechnet werden\n\nSie möchten auch im Bereich kommunale und industrielle Großaufträge Umsatz generieren? Hier geht es zum Vertiefungsmodul Nichtwohngebäude (NWG)\nDas Vertiefungsmodul Wohngebäude kann nur für bereits eingetragene Energieberater Wohngebäude gebucht werden. \nZielsetzung des Vertiefungsmoduls Energieberatung Wohngebäude\nFür die Qualifikationsprüfung Energieberatung Wohngebäude muss eine Fortbildung im Umfang von 160 Unterrichtseinheiten (UE) im Basismodul plus 40 UE im Vertiefungsmodul Energieberatung Wohngebäude absolviert werden (gemäß dena-Regelheft). \nDie bereits absolvierte Teilnahme an einem Basismodul qualifiziert Sie zur Teilnahme am Vertiefungsmodul. \nSie möchten nicht nur einen Eintrag in die EEE-Liste\, sondern wirklich Kompetenz aufbauen? Seit 18 Jahren führt unser erfahrenes Dozententeam diese Kurse erfolgreich durch und verbindet fundierte Theorie mit viel Berufspraxis. \nUnser Expertenteam des GIH Bayern e.V.  hat Inhalte des Vertiefungsmoduls so entwickelt\, das Praxis von Anfang an vermittelt wird! Inklusive Präsenzphasen zum Kennenlernen\, Netzwerken sowie intensivere Vermittlung anspruchsvoller Inhalte. Zur Vertiefung gibt es zusätzliche Online-Formate. \nKurz: Wer wirklich lernen und sich nachhaltig qualifizieren möchte\, ist hier genau richtig. \nZielgruppe\nDieser Lehrgang richtet sich an Absolvent/innen der Grundausbildung und dient als Vorbereitung zur Qualifikationsprüfung Energieberatung (BAFA). Ebenso ist dieser Kurs an Wiederholer der Qualifikationsprüfung Wohngebäude gerichtet\, welche freiwillig oder verpflichtend dieses Vertiefungsmodul ablegen wollen oder müssen\, um für die Prüfung entsprechend vorbereitet zu sein. \n \nDie Rahmenbedingungen des Lehrgangs entsprechen dem Regelheft der Energieeffizienz-Expertenliste für Förderprogramme des Bundes. Das aktuelle Regelheft finden Sie hier (unter Downloads/Allgemein finden Sie das Regelheft Expertenliste). In Anlage 1 (ab Seite 62) werden die Anforderungen an die Weiterbildungen inhaltlich dargestellt. Die Unterrichtsinhalte entsprechen dem DENA Regelheft 33.1 Vertiefungsmodul. \nZur Teilnahme sind zudem entsprechend alle Personen berechtigt\, welche bereits einen „Quereinsteigerkurs“ mit einem Umfang von 200 UE besucht haben. Ebenso für die Personen welche eine Wiederholungsprüfung (BAFA) anstreben. \nEs wird empfohlen eine Software (z.B. Hottgenroth Energieberater Wohngebäude) bereits zu nutzen. Eine Einführung in die Software ist nicht Bestandteil des Kurses. \nInhalte des Vertiefungsmoduls Energieberatung Wohngebäude\nDer Kurs umfasst über 40 Unterrichtseinheiten (UE) mit je 45 Minuten. \nDie Inhalte dieses Moduls hat die dena in dieselben neun Blöcke unterteilt wie im Basismodul. Genaueres dazu ist im Fortbildungskatalog ab Seite 66 des Regelhefts zu lesen. \nAblauf/Termine:\n8-Tage-Hybrid-Lehrgang vom 16.01.2026 – 31.01.2026 \nKurstermine: \n16.01.2026    Präsenz    15:00 – 20:00    6 UE \n17.01.2026    Präsenz    15:00 – 20:00    8 UE \n20.01.2026    Online      18:00 – 20:15    3 UE \n22.01.2026    Online      18:00 – 20:15    3 UE \n27.01.2026    Online      18:00 – 20:15    3 UE \n29.01.2026    Online      18:00 – 20:15    3 UE \n30.01.2026    Online      15:00 – 20:00    6 UE \n31.01.2026    Präsenz    15:00 – 20:00    8 UE \nIhre Dozentin: Frau Michaela Schaffer-Kast \nNach Abschluss des Kurses erhalten die Teilnehmer die entsprechenden zusätzlichen Dokumente zur Anmeldung zur BAFA-Prüfung.\nAndere Teilnehmer erhalten das Teilnahmezertifikat zur Verlängerung ihres Eintrages bei der Energie-Effizienz-Experten. \nNach erfolgreich abgeschlossener Prüfung beim Öko-Zentrum GmbH erhalten Sie ein BAFA-Zertifikat. Dieses Zertifikat ist für Quereinsteigende Voraussetzung\, um sich als Energieeffizienzexperte bei der dena eintragen zu lassen. Anschließend dürfen die folgenden geförderten Leistungen erbracht und Bundesförderprogramme begleitet werden: \n\nEnergieberatung für Wohngebäude\nBundesförderung für effiziente Gebäude – Wohngebäude\n\nDie Teilnahme am Unterricht ist verpflichtend\, um die abschließende Prüfung beim BAFA bzw. dem beauftragten Prüfungsdurchführer Öko-Zentrum NRW GmbH ablegen zu dürfen. \nHinweis zu Präsenz- und Online-Tagen/Projektarbeit/Software: \n\nPräsenz-Schulungen finden im Parkhotel Laim\, Zschokkestr. 55\, 80686 München statt\nOnline-Schulungen finden über die Schulungsplattform Moodle/BigBlueButton (sie erhalten rechtzeitig den Zugangslink von uns)\nBitte bringen Sie auch bei den Präsenztagen Ihr Laptop mit\nSchulungsunterlagen werden digital zur Verfügung gestellt\n\nSonstige Informationen\nFür die Verlängerung der Eintragung in der EEE-Liste werden folgende Fortbildungspunkte beantragt: \n\nWohngebäude: 40 UE\nNichtwohngebäude: 40 UE\nEnergieaudit nach DIN EN 16247: 0 UE\n\nZULASSUNGSVORAUSSETZUNGEN \nEine Teilnahmebestätigung aus dem Basismodul ist nachzuweisen. \n\n\n\n\nWeitere Informationen:\nInformationen_zur_Grundqualifikation_Paragraf_88_GEG.pdf\nRegelheft_Expertenliste.pdf\nUebersicht_Eintragung_Wohngebaeude.pdf\n\n\n\nKontakt:\nManuel Bravo Valenzuela\nTelefon: +49 89 1250157-82\nE-Mail senden an Manuel Bravo Valenzuela\n\n\n\n  \n©2007-2025
URL:https://www.gih-bayern.de/veranstaltung/vertiefungsmodul-energieberatung-wohngebaeude-40-ue/
LOCATION:Online/Präsenz\, Zschokkestraße 55\, München\, 80686\, Germany
CATEGORIES:veranstaltungen-bayern
ATTACH;FMTTYPE=image/png:https://www.gih-bayern.de/wp-content/uploads/sites/8/Entwurf_VO_WG_4-1-e1764673658980.png
ORGANIZER;CN="GIH Bayern e.V.":MAILTO:manuel.bravo@gih-bayern.de
END:VEVENT
END:VCALENDAR